BEGIN:VCALENDAR
VERSION:2.0
PRODID:-//Canadian Irish Migration Preservation Network - ECPv6.15.20//NONSGML v1.0//EN
CALSCALE:GREGORIAN
METHOD:PUBLISH
X-WR-CALNAME:Canadian Irish Migration Preservation Network
X-ORIGINAL-URL:https://cimpn-rcpmi.ca
X-WR-CALDESC:Events for Canadian Irish Migration Preservation Network
REFRESH-INTERVAL;VALUE=DURATION:PT1H
X-Robots-Tag:noindex
X-PUBLISHED-TTL:PT1H
BEGIN:VTIMEZONE
TZID:America/New_York
BEGIN:DAYLIGHT
TZOFFSETFROM:-0500
TZOFFSETTO:-0400
TZNAME:EDT
DTSTART:20240310T070000
END:DAYLIGHT
BEGIN:STANDARD
TZOFFSETFROM:-0400
TZOFFSETTO:-0500
TZNAME:EST
DTSTART:20241103T060000
END:STANDARD
BEGIN:DAYLIGHT
TZOFFSETFROM:-0500
TZOFFSETTO:-0400
TZNAME:EDT
DTSTART:20250309T070000
END:DAYLIGHT
BEGIN:STANDARD
TZOFFSETFROM:-0400
TZOFFSETTO:-0500
TZNAME:EST
DTSTART:20251102T060000
END:STANDARD
BEGIN:DAYLIGHT
TZOFFSETFROM:-0500
TZOFFSETTO:-0400
TZNAME:EDT
DTSTART:20260308T070000
END:DAYLIGHT
BEGIN:STANDARD
TZOFFSETFROM:-0400
TZOFFSETTO:-0500
TZNAME:EST
DTSTART:20261101T060000
END:STANDARD
END:VTIMEZONE
BEGIN:VEVENT
DTSTART;TZID=America/New_York:20251025T130000
DTEND;TZID=America/New_York:20251025T160000
DTSTAMP:20260420T210713
CREATED:20250909T043944Z
LAST-MODIFIED:20250909T044036Z
UID:709-1761397200-1761408000@cimpn-rcpmi.ca
SUMMARY:How We Tell Stories
DESCRIPTION:A round table discussion with four panelists. The event will include presentations\, films and short stories.\nKelley O’Rourke from CIMPN will be a panelist.
URL:https://cimpn-rcpmi.ca/event/how-we-tell-stories/
LOCATION:Lac Brome Museum\, 130 Lakeside\, Knowlton\, QC\, J0E 1V0\, Canada
END:VEVENT
BEGIN:VEVENT
DTSTART;VALUE=DATE:20251019
DTEND;VALUE=DATE:20251020
DTSTAMP:20260420T210713
CREATED:20250909T043658Z
LAST-MODIFIED:20250909T043658Z
UID:706-1760832000-1760918399@cimpn-rcpmi.ca
SUMMARY:Cemetery Headstone Cleaning Workshop
DESCRIPTION:This cemetery is a National Historic Site of Canada located in the Sainte-Foy-Sillery district of\nQuébec City\, Canada.
URL:https://cimpn-rcpmi.ca/event/cemetery-headstone-cleaning-workshop/
LOCATION:Beth Israel Ohev Shalom Cemetery\, 1251 Av. de Mérici\, Quebec\, QC\, G1S 3H8\, Canada
END:VEVENT
BEGIN:VEVENT
DTSTART;TZID=America/New_York:20251004T100000
DTEND;TZID=America/New_York:20251004T160000
DTSTAMP:20260420T210713
CREATED:20250909T042717Z
LAST-MODIFIED:20250909T043004Z
UID:695-1759572000-1759593600@cimpn-rcpmi.ca
SUMMARY:Stones and Stories: Cemetery Heritage in a Changing World
DESCRIPTION:Laurie McKeown and Kelley O’Rourke from CIMPN will be presenting on the St. Colomban Cemetery Project and their work mapping cemeteries throughout the Argenteuil region. Their talk will be followed by a headstone cleaning demonstration\, offering hands-on insight into respectful and effective preservation techniques.
URL:https://cimpn-rcpmi.ca/event/stones-and-stories-cemetery-heritage-in-a-changing-world/
LOCATION:Trinity Anglican Church\, 757 chemin du Village\, Morin Heights\, QC\, J0L 1H0
END:VEVENT
END:VCALENDAR